Workbook
Name \B: #REF!
Name ANN_BENS: #REF!
Name ANNPREMS: '[1]Total Premiums'!$J$26
Name ASSETS: '[2]Total Assets in Cda'!$E$11
Name AVG_SIZE: '[3]Policies Sold in Cda'!$D$35
Name BENEFITS: #REF!
Name BONDS_: '[2]Total Assets in Cda'!$G$23
Name CASH: #REF!
Name CFED_APREMS: '[1]Total Premiums'!$J$20
Name CFED_HPREMS: '[1]Total Premiums'!$J$37
Name CFED_LPREMS: '[1]Total Premiums'!$J$8
Name CHECK: '[3]Life Ins. Sales by Province'!$T$1
Name CORPBONDS: #REF!
Name Dividends: #REF!
Name DTH_BENS: #REF!
Name FEDBONDS: #REF!
Name GFBONDS: #REF!
Name GFCSHST: #REF!
Name gfmf: #REF!
Name GFMTGS: #REF!
Name GFOTHER: #REF!
Name GFPOLICY: #REF!
Name GFRE: #REF!
Name GFSHARES: #REF!
Name GFTOT: #REF!
Name GRP_IF: '[4]Life Ins. Inforce by Type'!$E$12
Name GRP_SALES: '[3]Sales by Type'!$E$12
Name HLTH_ASSETS: '[2]Total Assets in Cda'!#REF!
Name HLTH_BENS: #REF!
Name HLTHPREMS: '[1]Total Premiums'!$J$43
Name IND_IF: '[4]Life Ins. Inforce by Type'!$D$12
Name IND_INFORCE: '[4]Life Ins. Inforce by Type'!$D$11
Name IND_POLS: '[3]Policies Sold in Cda'!$D$12
Name IND_SALES: '[3]Sales by Type'!$D$12
Name INFORCE: '[4]Life Ins. Inforce by Type'!$F$12
Name INVESTS: #REF!
Name LIFE_ASSETS: '[2]Total Assets in Cda'!#REF!
Name LIFE_BENS: #REF!
Name LIFEPREMS: '[1]Total Premiums'!$J$14
Name LIVE_BENS: #REF!
Name MAC: #REF!
Name MACROS: #REF!
Name MISC: #REF!
Name MORTGAGES: #REF!
Name MUNBONDS: #REF!
Name MutualFunds: '[2]Total Assets in Cda'!$G$27
Name NAMES: #REF!
Name OTHERLT: #REF!
Name PAR_NPAR: #REF!
Name PER_CENT: '[5]Fed&Prov Cos; Branch & Sub '!$G$12
Name PLOANS: #REF!
Name POPULATION: '[4]Average Life Insurance'!$D$9
Name PREMIUMS: '[5]Fed&Prov Cos; Branch & Sub '!$G$11
Name PRINT_ALL: #REF!
Name PRINT_ANNPROV: #REF!
Name PRINT_AVERAGE: #REF!
Name PRINT_DEATH: #REF!
Name PRINT_DEPOSIT: #REF!
Name PRINT_DIVS: #REF!
Name PRINT_EXTRA: #REF!

Sheet English
A1: Appendix: Historical data
A2: Historical tables report on the business of insurance companies (life and property and casualty), fraternal benefit societies, and not-for-profit health care benefit providers (such as provincial Blue Cross organizations) since 2000. Earlier years include data for insurance companies only.
A4: Life insurance in force by type (millions)
B5: Coverage | E5: New purchases
A6: Year | B6: Individual | C6: Group | D6: Total | E6: Individual | F6: Group | G6: Total
A8: 1960 | B8: 32128 | C8: 14739 | D8: 46867 | E8: 4576 | F8: 1553 | G8: 6129
A9: 1970 | B9: 62845 | C9: 55977 | D9: 118822 | E9: 9024 | F9: 5223 | G9: 14247
A10: 1980 | B10: 177915 | C10: 253279 | D10: 431194 | E10: 37764 | F10: 26036 | G10: 63800
A11: 1990 | B11: 559893 | C11: 597502 | D11: 1157395 | E11: 97937 | F11: 58755 | G11: 156692
A12: 2000 | B12: 1068471 | C12: 1019446 | D12: 2087917 | E12: 133895 | F12: 109648 | G12: 243543
A13: 2010 | B13: 2053840 | C13: 1572720 | D13: 3626560 | E13: 216354 | F13: 115429 | G13: 331783
A15: 2020 | B15: 3256838 | C15: 1813242 | D15: 5070079 | E15: 291218 | F15: 116625 | G15: 407844
A16: 2021 | B16: 3428199 | C16: 1846966 | D16: 5275163 | E16: 326033 | F16: 99370 | G16: 425404
A17: 2022 | B17: 3578449 | C17: 1943068 | D17: 5521516 | E17: 333390 | F17: 85689 | G17: 419080
A18: 2023 | B18: 3742175 | C18: 2005130 | D18: 5747305 | E18: 346442 | F18: 105215 | G18: 451657
A19: 2024 | B19: 3915734 | C19: 2056447 | D19: 5972181 | E19: 356312 | F19: 112798 | G19: 469110
A21: 2025 | B21: 4097071 | C21: 2150751 | D21: 6247822 | E21: 382952 | F21: 105936 | G21: 488888
A22: Amounts above represent total face amounts owned or purchased
A25: Total policy benefits in Canada (millions)
A26: Year | B26: Life | D26: Annuity2 | E26: Health | G26: Total
B27: Death | C27: Living1 | E27: Insured | F27: Uninsured3
A29: 1960 | B29: 196 | C29: 291 | D29: 75 | E29: 129 | F29: 0 | G29: 691
A30: 1970 | B30: 453 | C30: 604 | D30: 260 | E30: 296 | F30: 0 | G30: 1613
A31: 1980 | B31: 1082 | C31: 1338 | D31: 1620 | E31: 1589 | F31: 46 | G31: 5675
A32: 1990 | B32: 2083 | C32: 2488 | D32: 9840 | E32: 4341 | F32: 1644 | G32: 20396
A33: 2000 | B33: 3564 | C33: 3395 | D33: 24214 | E33: 9295 | F33: 6172 | G33: 46640
A34: 2010 | B34: 5505 | C34: 4369 | D34: 32120 | E34: 14442 | F34: 11995 | G34: 68431
A36: 2020 | B36: 8349 | C36: 5908 | D36: 46223 | E36: 20402 | F36: 16226 | G36: 97108
A37: 2021 | B37: 8827 | C37: 5545 | D37: 58089 | E37: 22146 | F37: 18640 | G37: 113247
A38: 2022 | B38: 9444 | C38: 6687 | D38: 53651 | E38: 23787 | F38: 20132 | G38: 113702
A39: 2023 | B39: 9224 | C39: 8083 | D39: 62696 | E39: 25756 | F39: 22428 | G39: 128187
A40: 2024r | B40: 8921 | C40: 9679 | D40: 71401 | E40: 27908 | F40: 24656 | G40: 142565
A42: 2025 | B42: 9596 | C42: 8724 | D42: 83804 | E42: 28259 | F42: 26467 | G42: 156850
A43: 1 Payments to living policyholders: cash surrender values, disability benefits, matured endowments, and policyholder dividends
A44: 2 Annuity benefits consist of death, surrender, and disability payments, including benefits paid under variable (segregated fund) contracts
A45: 3 Benefits paid under uninsured contracts administered by life and health insurance providers
A46: r - health benefits revised
A48: Total premiums in Canada (millions)
A49: Year | B49: Life | D49: Annuity1 | F49: Health | I49: Total
B50: Individual | C50: Group | D50: Individual | E50: Group | F50: Individual | G50: Group (insured) | H50: Group (uninsured2)
...

Sheet Français
A1: Annexe – Données historiques | H1: =IF(ISBLANK(English!H1),"",English!H1) | I1: =IF(ISBLANK(English!I1),"",English!I1) | J1: =IF(ISBLANK(English!J1),"",English!J1)
A2: Dans les tableaux historiques qui suivent, avant 2000, seules les données des assureurs vie et IARD sont prises en compte; à partir de 2000, les chiffres couvrent également les données des sociétés de secours mutuel et des fournisseurs sans but lucratif de protection santé, comme les Croix Bleue provinciales. | H2: =IF(ISBLANK(English!H2),"",English!H2) | I2: =IF(ISBLANK(English!I2),"",English!I2) | J2: =IF(ISBLANK(English!J2),"",English!J2)
A3: =IF(ISBLANK(English!A3),"",English!A3) | H3: =IF(ISBLANK(English!H3),"",English!H3) | I3: =IF(ISBLANK(English!I3),"",English!I3) | J3: =IF(ISBLANK(English!J3),"",English!J3)
A4: Assurance vie individuelle et collective en vigueur (en M$) | H4: =IF(ISBLANK(English!H4),"",English!H4) | I4: =IF(ISBLANK(English!I4),"",English!I4) | J4: =IF(ISBLANK(English!J4),"",English!J4)
A5: =IF(ISBLANK(English!A5),"",English!A5) | B5: Montant d'assurance | C5: =IF(ISBLANK(English!C5),"",English!C5) | D5: =IF(ISBLANK(English!D5),"",English!D5) | E5: Nouvelles souscriptions | F5: =IF(ISBLANK(English!F5),"",English!F5) | G5: =IF(ISBLANK(English!G5),"",English!G5) | H5: =IF(ISBLANK(English!H5),"",English!H5) | I5: =IF(ISBLANK(English!I5),"",English!I5) | J5: =IF(ISBLANK(English!J5),"",English!J5)
A6: Année | B6: Individuelle | C6: Collective | D6: =IF(ISBLANK(English!D6),"",English!D6) -> Total | E6: Individuelle | F6: Collective | G6: =IF(ISBLANK(English!G6),"",English!G6) -> Total | H6: =IF(ISBLANK(English!H6),"",English!H6) | I6: =IF(ISBLANK(English!I6),"",English!I6) | J6: =IF(ISBLANK(English!J6),"",English!J6)
A8: =IF(ISBLANK(English!A8),"",English!A8) -> 1960 | B8: =IF(ISBLANK(English!B8),"",English!B8) -> 32128 | C8: =IF(ISBLANK(English!C8),"",English!C8) -> 14739 | D8: =IF(ISBLANK(English!D8),"",English!D8) -> 46867 | E8: =IF(ISBLANK(English!E8),"",English!E8) -> 4576 | F8: =IF(ISBLANK(English!F8),"",English!F8) -> 1553 | G8: =IF(ISBLANK(English!G8),"",English!G8) -> 6129 | H8: =IF(ISBLANK(English!H8),"",English!H8) | ... J8: =IF(ISBLANK(English!J8),"",English!J8)
A9: =IF(ISBLANK(English!A9),"",English!A9) -> 1970 | B9: =IF(ISBLANK(English!B9),"",English!B9) -> 62845 | C9: =IF(ISBLANK(English!C9),"",English!C9) -> 55977 | D9: =IF(ISBLANK(English!D9),"",English!D9) -> 118822 | E9: =IF(ISBLANK(English!E9),"",English!E9) -> 9024 | F9: =IF(ISBLANK(English!F9),"",English!F9) -> 5223 | G9: =IF(ISBLANK(English!G9),"",English!G9) -> 14247 | H9: =IF(ISBLANK(English!H9),"",English!H9) | ... J9: =IF(ISBLANK(English!J9),"",English!J9)
A10: =IF(ISBLANK(English!A10),"",English!A10) -> 1980 | B10: =IF(ISBLANK(English!B10),"",English!B10) -> 177915 | C10: =IF(ISBLANK(English!C10),"",English!C10) -> 253279 | D10: =IF(ISBLANK(English!D10),"",English!D10) -> 431194 | E10: =IF(ISBLANK(English!E10),"",English!E10) -> 37764 | F10: =IF(ISBLANK(English!F10),"",English!F10) -> 26036 | G10: =IF(ISBLANK(English!G10),"",English!G10) -> 63800 | H10: =IF(ISBLANK(English!H10),"",English!H10) | ... J10: =IF(ISBLANK(English!J10),"",English!J10)
A11: =IF(ISBLANK(English!A11),"",English!A11) -> 1990 | B11: =IF(ISBLANK(English!B11),"",English!B11) -> 559893 | C11: =IF(ISBLANK(English!C11),"",English!C11) -> 597502 | D11: =IF(ISBLANK(English!D11),"",English!D11) -> 1157395 | E11: =IF(ISBLANK(English!E11),"",English!E11) -> 97937 | F11: =IF(ISBLANK(English!F11),"",English!F11) -> 58755 | G11: =IF(ISBLANK(English!G11),"",English!G11) -> 156692 | H11: =IF(ISBLANK(English!H11),"",English!H11) | ... J11: =IF(ISBLANK(English!J11),"",English!J11)
A12: =IF(ISBLANK(English!A12),"",English!A12) -> 2000 | B12: =IF(ISBLANK(English!B12),"",English!B12) -> 1068471 | C12: =IF(ISBLANK(English!C12),"",English!C12) -> 1019446 | D12: =IF(ISBLANK(English!D12),"",English!D12) -> 2087917 | E12: =IF(ISBLANK(English!E12),"",English!E12) -> 133895 | F12: =IF(ISBLANK(English!F12),"",English!F12) -> 109648 | G12: =IF(ISBLANK(English!G12),"",English!G12) -> 243543 | H12: =IF(ISBLANK(English!H12),"",English!H12) | ... J12: =IF(ISBLANK(English!J12),"",English!J12)
A13: =IF(ISBLANK(English!A13),"",English!A13) -> 2010 | B13: =IF(ISBLANK(English!B13),"",English!B13) -> 2053840 | C13: =IF(ISBLANK(English!C13),"",English!C13) -> 1572720 | D13: =IF(ISBLANK(English!D13),"",English!D13) -> 3626560 | E13: =IF(ISBLANK(English!E13),"",English!E13) -> 216354 | F13: =IF(ISBLANK(English!F13),"",English!F13) -> 115429 | G13: =IF(ISBLANK(English!G13),"",English!G13) -> 331783 | H13: =IF(ISBLANK(English!H13),"",English!H13) | ... J13: =IF(ISBLANK(English!J13),"",English!J13)
A15: =IF(ISBLANK(English!A15),"",English!A15) -> 2020 | B15: =IF(ISBLANK(English!B15),"",English!B15) -> 3256838 | C15: =IF(ISBLANK(English!C15),"",English!C15) -> 1813242 | D15: =IF(ISBLANK(English!D15),"",English!D15) -> 5070079 | E15: =IF(ISBLANK(English!E15),"",English!E15) -> 291218 | F15: =IF(ISBLANK(English!F15),"",English!F15) -> 116625 | G15: =IF(ISBLANK(English!G15),"",English!G15) -> 407844
A16: =IF(ISBLANK(English!A16),"",English!A16) -> 2021 | B16: =IF(ISBLANK(English!B16),"",English!B16) -> 3428199 | C16: =IF(ISBLANK(English!C16),"",English!C16) -> 1846966 | D16: =IF(ISBLANK(English!D16),"",English!D16) -> 5275163 | E16: =IF(ISBLANK(English!E16),"",English!E16) -> 326033 | F16: =IF(ISBLANK(English!F16),"",English!F16) -> 99370 | G16: =IF(ISBLANK(English!G16),"",English!G16) -> 425404
A17: =IF(ISBLANK(English!A17),"",English!A17) -> 2022 | B17: =IF(ISBLANK(English!B17),"",English!B17) -> 3578449 | C17: =IF(ISBLANK(English!C17),"",English!C17) -> 1943068 | D17: =IF(ISBLANK(English!D17),"",English!D17) -> 5521516 | E17: =IF(ISBLANK(English!E17),"",English!E17) -> 333390 | F17: =IF(ISBLANK(English!F17),"",English!F17) -> 85689 | G17: =IF(ISBLANK(English!G17),"",English!G17) -> 419080
A18: =IF(ISBLANK(English!A18),"",English!A18) -> 2023 | B18: =IF(ISBLANK(English!B18),"",English!B18) -> 3742175 | C18: =IF(ISBLANK(English!C18),"",English!C18) -> 2005130 | D18: =IF(ISBLANK(English!D18),"",English!D18) -> 5747305 | E18: =IF(ISBLANK(English!E18),"",English!E18) -> 346442 | F18: =IF(ISBLANK(English!F18),"",English!F18) -> 105215 | G18: =IF(ISBLANK(English!G18),"",English!G18) -> 451657
A19: =IF(ISBLANK(English!A19),"",English!A19) -> 2024 | B19: =IF(ISBLANK(English!B19),"",English!B19) -> 3915734 | C19: =IF(ISBLANK(English!C19),"",English!C19) -> 2056447 | D19: =IF(ISBLANK(English!D19),"",English!D19) -> 5972181 | E19: =IF(ISBLANK(English!E19),"",English!E19) -> 356312 | F19: =IF(ISBLANK(English!F19),"",English!F19) -> 112798 | G19: =IF(ISBLANK(English!G19),"",English!G19) -> 469110
A21: =IF(ISBLANK(English!A21),"",English!A21) -> 2025 | B21: =IF(ISBLANK(English!B21),"",English!B21) -> 4097071 | C21: =IF(ISBLANK(English!C21),"",English!C21) -> 2150751 | D21: =IF(ISBLANK(English!D21),"",English!D21) -> 6247822 | E21: =IF(ISBLANK(English!E21),"",English!E21) -> 382952 | F21: =IF(ISBLANK(English!F21),"",English!F21) -> 105936 | G21: =IF(ISBLANK(English!G21),"",English!G21) -> 488888 | H21: =IF(ISBLANK(English!H21),"",English!H21) | ... J21: =IF(ISBLANK(English!J21),"",English!J21)
A22: Les chiffres ci-dessus indiquent le capital assuré global en vigueur (à gauche) et le capital assuré souscrit (à droite). | H22: =IF(ISBLANK(English!H22),"",English!H22) | I22: =IF(ISBLANK(English!I22),"",English!I22) | J22: =IF(ISBLANK(English!J22),"",English!J22)
A23: =IF(ISBLANK(English!A23),"",English!A23) | H23: =IF(ISBLANK(English!H23),"",English!H23) | I23: =IF(ISBLANK(English!I23),"",English!I23) | J23: =IF(ISBLANK(English!J23),"",English!J23)
A24: =IF(ISBLANK(English!A24),"",English!A24) | B24: =IF(ISBLANK(English!B24),"",English!B24) | C24: =IF(ISBLANK(English!C24),"",English!C24) | D24: =IF(ISBLANK(English!D24),"",English!D24) | E24: =IF(ISBLANK(English!E24),"",English!E24) | F24: =IF(ISBLANK(English!F24),"",English!F24) | G24: =IF(ISBLANK(English!G24),"",English!G24) | H24: =IF(ISBLANK(English!H24),"",English!H24) | ... J24: =IF(ISBLANK(English!J24),"",English!J24)
A25: Total des prestations au Canada (en M$) | H25: =IF(ISBLANK(English!H25),"",English!H25) | I25: =IF(ISBLANK(English!I25),"",English!I25) | J25: =IF(ISBLANK(English!J25),"",English!J25)
A26: Année | B26: Vie | C26: =IF(ISBLANK(English!C26),"",English!C26) | D26: Rentes2 | E26: Maladie | F26: =IF(ISBLANK(English!F26),"",English!F26) | G26: =IF(ISBLANK(English!G26),"",English!G26) -> Total | H26: =IF(ISBLANK(English!H26),"",English!H26) | I26: =IF(ISBLANK(English!I26),"",English!I26) | J26: =IF(ISBLANK(English!J26),"",English!J26)
A27: =IF(ISBLANK(English!A27),"",English!A27) | B27: Décès | C27: Assurés1 | D27: =IF(ISBLANK(English!D27),"",English!D27) | E27: Régimes assurés | F27: Régimes non assurés3 | G27: =IF(ISBLANK(English!G27),"",English!G27) | H27: =IF(ISBLANK(English!H27),"",English!H27) | I27: =IF(ISBLANK(English!I27),"",English!I27) | J27: =IF(ISBLANK(English!J27),"",English!J27)
A29: =IF(ISBLANK(English!A29),"",English!A29) -> 1960 | B29: =IF(ISBLANK(English!B29),"",English!B29) -> 196 | C29: =IF(ISBLANK(English!C29),"",English!C29) -> 291 | D29: =IF(ISBLANK(English!D29),"",English!D29) -> 75 | E29: =IF(ISBLANK(English!E29),"",English!E29) -> 129 | F29: =IF(ISBLANK(English!F29),"",English!F29) -> 0 | G29: =IF(ISBLANK(English!G29),"",English!G29) -> 691 | H29: =IF(ISBLANK(English!H29),"",English!H29) | ... J29: =IF(ISBLANK(English!J29),"",English!J29)
A30: =IF(ISBLANK(English!A30),"",English!A30) -> 1970 | B30: =IF(ISBLANK(English!B30),"",English!B30) -> 453 | C30: =IF(ISBLANK(English!C30),"",English!C30) -> 604 | D30: =IF(ISBLANK(English!D30),"",English!D30) -> 260 | E30: =IF(ISBLANK(English!E30),"",English!E30) -> 296 | F30: =IF(ISBLANK(English!F30),"",English!F30) -> 0 | G30: =IF(ISBLANK(English!G30),"",English!G30) -> 1613 | H30: =IF(ISBLANK(English!H30),"",English!H30) | ... J30: =IF(ISBLANK(English!J30),"",English!J30)
A31: =IF(ISBLANK(English!A31),"",English!A31) -> 1980 | B31: =IF(ISBLANK(English!B31),"",English!B31) -> 1082 | C31: =IF(ISBLANK(English!C31),"",English!C31) -> 1338 | D31: =IF(ISBLANK(English!D31),"",English!D31) -> 1620 | E31: =IF(ISBLANK(English!E31),"",English!E31) -> 1589 | F31: =IF(ISBLANK(English!F31),"",English!F31) -> 46 | G31: =IF(ISBLANK(English!G31),"",English!G31) -> 5675 | H31: =IF(ISBLANK(English!H31),"",English!H31) | ... J31: =IF(ISBLANK(English!J31),"",English!J31)
A32: =IF(ISBLANK(English!A32),"",English!A32) -> 1990 | B32: =IF(ISBLANK(English!B32),"",English!B32) -> 2083 | C32: =IF(ISBLANK(English!C32),"",English!C32) -> 2488 | D32: =IF(ISBLANK(English!D32),"",English!D32) -> 9840 | E32: =IF(ISBLANK(English!E32),"",English!E32) -> 4341 | F32: =IF(ISBLANK(English!F32),"",English!F32) -> 1644 | G32: =IF(ISBLANK(English!G32),"",English!G32) -> 20396 | H32: =IF(ISBLANK(English!H32),"",English!H32) | ... J32: =IF(ISBLANK(English!J32),"",English!J32)
A33: =IF(ISBLANK(English!A33),"",English!A33) -> 2000 | B33: =IF(ISBLANK(English!B33),"",English!B33) -> 3564 | C33: =IF(ISBLANK(English!C33),"",English!C33) -> 3395 | D33: =IF(ISBLANK(English!D33),"",English!D33) -> 24214 | E33: =IF(ISBLANK(English!E33),"",English!E33) -> 9295 | F33: =IF(ISBLANK(English!F33),"",English!F33) -> 6172 | G33: =IF(ISBLANK(English!G33),"",English!G33) -> 46640 | H33: =IF(ISBLANK(English!H33),"",English!H33) | ... J33: =IF(ISBLANK(English!J33),"",English!J33)
A34: =IF(ISBLANK(English!A34),"",English!A34) -> 2010 | B34: =IF(ISBLANK(English!B34),"",English!B34) -> 5505 | C34: =IF(ISBLANK(English!C34),"",English!C34) -> 4369 | D34: =IF(ISBLANK(English!D34),"",English!D34) -> 32120 | E34: =IF(ISBLANK(English!E34),"",English!E34) -> 14442 | F34: =IF(ISBLANK(English!F34),"",English!F34) -> 11995 | G34: =IF(ISBLANK(English!G34),"",English!G34) -> 68431 | H34: =IF(ISBLANK(English!H34),"",English!H34) | ... J34: =IF(ISBLANK(English!J34),"",English!J34)
A36: =IF(ISBLANK(English!A36),"",English!A36) -> 2020 | B36: =IF(ISBLANK(English!B36),"",English!B36) -> 8349 | C36: =IF(ISBLANK(English!C36),"",English!C36) -> 5908 | D36: =IF(ISBLANK(English!D36),"",English!D36) -> 46223 | E36: =IF(ISBLANK(English!E36),"",English!E36) -> 20402 | F36: =IF(ISBLANK(English!F36),"",English!F36) -> 16226 | G36: =IF(ISBLANK(English!G36),"",English!G36) -> 97108
A37: =IF(ISBLANK(English!A37),"",English!A37) -> 2021 | B37: =IF(ISBLANK(English!B37),"",English!B37) -> 8827 | C37: =IF(ISBLANK(English!C37),"",English!C37) -> 5545 | D37: =IF(ISBLANK(English!D37),"",English!D37) -> 58089 | E37: =IF(ISBLANK(English!E37),"",English!E37) -> 22146 | F37: =IF(ISBLANK(English!F37),"",English!F37) -> 18640 | G37: =IF(ISBLANK(English!G37),"",English!G37) -> 113247
A38: =IF(ISBLANK(English!A38),"",English!A38) -> 2022 | B38: =IF(ISBLANK(English!B38),"",English!B38) -> 9444 | C38: =IF(ISBLANK(English!C38),"",English!C38) -> 6687 | D38: =IF(ISBLANK(English!D38),"",English!D38) -> 53651 | E38: =IF(ISBLANK(English!E38),"",English!E38) -> 23787 | F38: =IF(ISBLANK(English!F38),"",English!F38) -> 20132 | G38: =IF(ISBLANK(English!G38),"",English!G38) -> 113702
A39: =IF(ISBLANK(English!A39),"",English!A39) -> 2023 | B39: =IF(ISBLANK(English!B39),"",English!B39) -> 9224 | C39: =IF(ISBLANK(English!C39),"",English!C39) -> 8083 | D39: =IF(ISBLANK(English!D39),"",English!D39) -> 62696 | E39: =IF(ISBLANK(English!E39),"",English!E39) -> 25756 | F39: =IF(ISBLANK(English!F39),"",English!F39) -> 22428 | G39: =IF(ISBLANK(English!G39),"",English!G39) -> 128187
A40: =IF(ISBLANK(English!A40),"",English!A40) -> 2024r | B40: =IF(ISBLANK(English!B40),"",English!B40) -> 8921 | C40: =IF(ISBLANK(English!C40),"",English!C40) -> 9679 | D40: =IF(ISBLANK(English!D40),"",English!D40) -> 71401 | E40: =IF(ISBLANK(English!E40),"",English!E40) -> 27908 | F40: =IF(ISBLANK(English!F40),"",English!F40) -> 24656 | G40: =IF(ISBLANK(English!G40),"",English!G40) -> 142565
A42: =IF(ISBLANK(English!A42),"",English!A42) -> 2025 | B42: =IF(ISBLANK(English!B42),"",English!B42) -> 9596 | C42: =IF(ISBLANK(English!C42),"",English!C42) -> 8724 | D42: =IF(ISBLANK(English!D42),"",English!D42) -> 83804 | E42: =IF(ISBLANK(English!E42),"",English!E42) -> 28259 | F42: =IF(ISBLANK(English!F42),"",English!F42) -> 26467 | G42: =IF(ISBLANK(English!G42),"",English!G42) -> 156850 | H42: =IF(ISBLANK(English!H42),"",English!H42) | ... J42: =IF(ISBLANK(English!J42),"",English!J42)
A43: 1. Prestations versées du vivant de l'assuré : valeurs de rachat, indemnités d'invalidité, capitaux d'assurance mixte échue et participations | H43: =IF(ISBLANK(English!H43),"",English!H43) | I43: =IF(ISBLANK(English!I43),"",English!I43) | J43: =IF(ISBLANK(English!J43),"",English!J43)
A44: 2. Les rentes comprennent des sommes versées en cas de décès, de rachat et d'invalidité, ainsi que des prestations versées au titre de contrats à capital variable (adossés aux fonds distincts). | H44: =IF(ISBLANK(English!H44),"",English!H44) | I44: =IF(ISBLANK(English!I44),"",English!I44) | J44: =IF(ISBLANK(English!J44),"",English!J44)
A45: 3. Prestations versées au titre de régimes non assurés administrés par des fournisseurs d'assurances de personnes | H45: =IF(ISBLANK(English!H45),"",English!H45) | I45: =IF(ISBLANK(English!I45),"",English!I45) | J45: =IF(ISBLANK(English!J45),"",English!J45)
A46: r - prestations maladie révisées | C46: =IF(ISBLANK(English!C46),"",English!C46) | D46: =IF(ISBLANK(English!D46),"",English!D46) | E46: =IF(ISBLANK(English!E46),"",English!E46) | F46: =IF(ISBLANK(English!F46),"",English!F46) | G46: =IF(ISBLANK(English!G46),"",English!G46) | H46: =IF(ISBLANK(English!H46),"",English!H46) | I46: =IF(ISBLANK(English!I46),"",English!I46) | J46: =IF(ISBLANK(English!J46),"",English!J46)
...
